BEGIN:VCALENDAR
VERSION:2.0
PRODID:-//wp-events-plugin.com//7.2.3.1//EN
BEGIN:VEVENT
UID:44@buitenbereik.nl
DTSTART:20250302T150000Z
DTEND:20250302T170000Z
DTSTAMP:20250115T085843Z
URL:https://www.buitenbereik.nl/events/improvisatievoorstelling-kattekwaod
 -buitenbereik/
SUMMARY:Improvisatievoorstelling Kâttekwaod & Buiten Bereik 2 maart
DESCRIPTION:Op zondag 2 maart speelt Buiten Bereik een theatersportwedstrij
 d met Kâttekwaod in Utrecht! Ga voor meer informatie en het reserveren va
 n kaartjes naar de website van Kâttekwaod.
CATEGORIES:Uit
LOCATION:Trapop\, Hof van Monaco 8\, Leidsche Rijn\, Utrecht\, Nederland
X-APPLE-STRUCTURED-LOCATION;VALUE=URI;X-ADDRESS=Hof van Monaco 8\, Leidsche
  Rijn\, Utrecht\, Nederland;X-APPLE-RADIUS=100;X-TITLE=Trapop:geo:0,0
END:VEVENT
END:VCALENDAR