BEGIN:VCALENDAR
VERSION:2.0
PRODID:-//wp-events-plugin.com//7.2.3.1//EN
BEGIN:VEVENT
UID:43@buitenbereik.nl
DTSTART:20250201T201500Z
DTEND:20250201T221500Z
DTSTAMP:20250114T182428Z
URL:https://www.buitenbereik.nl/events/improvisatievoorstelling-gemengde-n
 oten-buiten-bereik-1-februari/
SUMMARY:Improvisatievoorstelling Gemengde Noten & Buiten Bereik 1 februari
DESCRIPTION:Op zaterdag 1 februari speelt Buiten Bereik een theatersportwed
 strijd met Gemengde noten van Improfessioneel in Den Haag! Stuur een mailt
 je naar info@buitenbereik.nl voor meer informatie.
CATEGORIES:Uit
LOCATION:Theater De Kunsthout\, Zaanstraat 80b\, Den Haag\, 2515 TN\, Neder
 land
X-APPLE-STRUCTURED-LOCATION;VALUE=URI;X-ADDRESS=Zaanstraat 80b\, Den Haag\,
  2515 TN\, Nederland;X-APPLE-RADIUS=100;X-TITLE=Theater De Kunsthout:geo:0
 ,0
END:VEVENT
END:VCALENDAR