BEGIN:VCALENDAR
VERSION:2.0
PRODID:-//wp-events-plugin.com//7.2.3.1//EN
BEGIN:VEVENT
UID:47@buitenbereik.nl
DTSTART:20251122T201500Z
DTEND:20251122T221500Z
DTSTAMP:20250508T090513Z
URL:https://www.buitenbereik.nl/events/improvisatievoorstelling-buiten-ber
 eik/
SUMMARY:Improvisatievoorstelling Buiten Bereik 22 november
DESCRIPTION:Op zaterdag 22 november speelt Buiten Bereik een improvisatievo
 orstelling in de Lindenberg. Bij zijn is meemaken! Koop snel een kaartje b
 ij De Lindenberg. Houd de socials van Buiten Bereik in de gaten voor de l
 aatste info over deze avond.\n\nTickets: €12
CATEGORIES:Thuis
LOCATION:De Lindenberg\, Ridderstraat 23\, Nijmegen\, 6511 TM\, Nederland
X-APPLE-STRUCTURED-LOCATION;VALUE=URI;X-ADDRESS=Ridderstraat 23\, Nijmegen\
 , 6511 TM\, Nederland;X-APPLE-RADIUS=100;X-TITLE=De Lindenberg:geo:0,0
END:VEVENT
END:VCALENDAR