BEGIN:VCALENDAR
VERSION:2.0
PRODID:-//wp-events-plugin.com//7.2.3.1//EN
BEGIN:VEVENT
UID:46@buitenbereik.nl
DTSTART:20251003T201500Z
DTEND:20251003T221500Z
DTSTAMP:20250506T094523Z
URL:https://www.buitenbereik.nl/events/improvisatievoorstelling-buiten-ber
 eik-matig-genoten-3-oktober/
SUMMARY:Improvisatievoorstelling Buiten Bereik & Matig Genoten 3 oktober
DESCRIPTION:Op vrijdag 3 oktober speelt Buiten Bereik de eerste improvisati
 evoorstelling van het seizoen samen met Matig Genoten. Kaartjes zijn al t
 e koop via de site van De Lindenberg. Houd ook de socials van Buiten Bere
 ik in de gaten voor de laatste info!
CATEGORIES:Thuis
LOCATION:De Lindenberg\, Ridderstraat 23\, Nijmegen\, 6511 TM\, Nederland
X-APPLE-STRUCTURED-LOCATION;VALUE=URI;X-ADDRESS=Ridderstraat 23\, Nijmegen\
 , 6511 TM\, Nederland;X-APPLE-RADIUS=100;X-TITLE=De Lindenberg:geo:0,0
END:VEVENT
END:VCALENDAR