BEGIN:VCALENDAR
VERSION:2.0
PRODID:-//wp-events-plugin.com//7.2.3.1//EN
BEGIN:VEVENT
UID:45@buitenbereik.nl
DTSTART:20250509T201500Z
DTEND:20250509T221500Z
DTSTAMP:20250424T082735Z
URL:https://www.buitenbereik.nl/events/improvisatievoorstelling-buiten-ber
 eik-9-mei/
SUMMARY:Improvisatievoorstelling Buiten Bereik & Kâttekwaod 9 mei
DESCRIPTION:Kaartjes zijn te koop via de website van de Lindenberg. Houd oo
 k onze socials in de gaten voor meer informatie over de voorstelling!
CATEGORIES:Thuis
LOCATION:De Lindenberg\, Ridderstraat 23\, Nijmegen\, 6511 TM\, Nederland
X-APPLE-STRUCTURED-LOCATION;VALUE=URI;X-ADDRESS=Ridderstraat 23\, Nijmegen\
 , 6511 TM\, Nederland;X-APPLE-RADIUS=100;X-TITLE=De Lindenberg:geo:0,0
END:VEVENT
END:VCALENDAR