BEGIN:VCALENDAR
VERSION:2.0
PRODID:-//wp-events-plugin.com//7.2.3.1//EN
BEGIN:VEVENT
UID:42@buitenbereik.nl
DTSTART:20250207T201500Z
DTEND:20250207T221500Z
DTSTAMP:20250105T201205Z
URL:https://www.buitenbereik.nl/events/improvisatievoorstelling-buiten-ber
 eik-7-februari/
SUMMARY:Improvisatievoorstelling Buiten Bereik & Andere Koek 7 februari
DESCRIPTION:Kaartjes zijn te reserveren via onze website. Houd onze socials
  in de gaten voor meer informatie over de voorstelling!\n\nMocht er iets m
 is gaan tijdens het reserveren\, of je hebt vragen over de reservering\, s
 tuur dan een mailtje naar info@buitenbereik.nl
CATEGORIES:Thuis
LOCATION:Theater Het Badhuis\, Daalseweg 262\, Nijmegen\, Gelderland\, 6523
  CD\, Nederland
X-APPLE-STRUCTURED-LOCATION;VALUE=URI;X-ADDRESS=Daalseweg 262\, Nijmegen\, 
 Gelderland\, 6523 CD\, Nederland;X-APPLE-RADIUS=100;X-TITLE=Theater Het Ba
 dhuis:geo:0,0
END:VEVENT
END:VCALENDAR