BEGIN:VCALENDAR
VERSION:2.0
PRODID:-//wp-events-plugin.com//7.2.3.1//EN
BEGIN:VEVENT
UID:49@buitenbereik.nl
DTSTART:20260516T201500Z
DTEND:20260516T221500Z
DTSTAMP:20260408T195028Z
URL:https://www.buitenbereik.nl/events/improvisatievoorstelling-buiten-ber
 eik-16-mei/
SUMMARY:Improvisatievoorstelling Buiten Bereik 16 mei
DESCRIPTION:Op zaterdag 16 mei speelt Buiten Bereik een improvisatievoorste
 lling in Het Badhuis. Bij zijn is meemaken! Koop snel een kaartje via dez
 e link. Houd de socials van Buiten Bereik in de gaten voor de laatste info
  over deze avond.\n\nTickets: €12
CATEGORIES:Thuis
LOCATION:Theater Het Badhuis\, Daalseweg 262\, Nijmegen\, Gelderland\, 6523
  CD\, Nederland
X-APPLE-STRUCTURED-LOCATION;VALUE=URI;X-ADDRESS=Daalseweg 262\, Nijmegen\, 
 Gelderland\, 6523 CD\, Nederland;X-APPLE-RADIUS=100;X-TITLE=Theater Het Ba
 dhuis:geo:0,0
END:VEVENT
END:VCALENDAR